BEGIN:VCALENDAR
VERSION:2.0
PRODID:-//FSV Mosbach 1928 e.V. - ECPv6.13.1//NONSGML v1.0//EN
CALSCALE:GREGORIAN
METHOD:PUBLISH
X-ORIGINAL-URL:https://www.fsvmosbach.de
X-WR-CALDESC:Veranstaltungen für FSV Mosbach 1928 e.V.
REFRESH-INTERVAL;VALUE=DURATION:PT1H
X-Robots-Tag:noindex
X-PUBLISHED-TTL:PT1H
BEGIN:VTIMEZONE
TZID:Europe/Berlin
BEGIN:DAYLIGHT
TZOFFSETFROM:+0100
TZOFFSETTO:+0200
TZNAME:CEST
DTSTART:20230326T010000
END:DAYLIGHT
BEGIN:STANDARD
TZOFFSETFROM:+0200
TZOFFSETTO:+0100
TZNAME:CET
DTSTART:20231029T010000
END:STANDARD
END:VTIMEZONE
BEGIN:VEVENT
DTSTART;TZID=Europe/Berlin:20231001T130000
DTEND;TZID=Europe/Berlin:20231001T130000
DTSTAMP:20260425T130745
CREATED:20230731T091444Z
LAST-MODIFIED:20230731T091444Z
UID:9750-1696165200-1696165200@www.fsvmosbach.de
SUMMARY:KLC Dieburg
DESCRIPTION:SV Kickers Hergershausen II – SG Mosbach/Radheim II
URL:https://www.fsvmosbach.de/event/klc-dieburg-9/
LOCATION:RP1 Babenhausen-Hergershausen\, Mainstr.\, Babenhausen\, 64832\, Deutschland
END:VEVENT
BEGIN:VEVENT
DTSTART;TZID=Europe/Berlin:20231001T150000
DTEND;TZID=Europe/Berlin:20231001T150000
DTSTAMP:20260425T130745
CREATED:20230731T091457Z
LAST-MODIFIED:20230731T091457Z
UID:9751-1696172400-1696172400@www.fsvmosbach.de
SUMMARY:KLD Dieburg
DESCRIPTION:SG Mosbach/Radheim III – SG Raibach/Umstadt II
URL:https://www.fsvmosbach.de/event/kld-dieburg-9/
LOCATION:RP1 Schaafheim-Mosbach\, Gartenstr. 19-21\, Schaafheim\, Hessen\, 64850\, Deutschland
END:VEVENT
BEGIN:VEVENT
DTSTART;TZID=Europe/Berlin:20231001T150000
DTEND;TZID=Europe/Berlin:20231001T150000
DTSTAMP:20260425T130745
CREATED:20230731T091458Z
LAST-MODIFIED:20230731T091458Z
UID:9752-1696172400-1696172400@www.fsvmosbach.de
SUMMARY:KOL DI-ODW
DESCRIPTION:FV Mümling-Grumbach – SG Mosbach/Radheim
URL:https://www.fsvmosbach.de/event/kol-di-odw-9/
LOCATION:RP Höchst-Mümling-Grumbach\, Wiesenweg\, Höchst\, 64739\, Deutschland
END:VEVENT
BEGIN:VEVENT
DTSTART;TZID=Europe/Berlin:20231003T130000
DTEND;TZID=Europe/Berlin:20231003T130000
DTSTAMP:20260425T130745
CREATED:20230731T091458Z
LAST-MODIFIED:20230731T091458Z
UID:9753-1696338000-1696338000@www.fsvmosbach.de
SUMMARY:KLD Dieburg
DESCRIPTION:SG Mosbach/Radheim III – GSV Gundernhausen II
URL:https://www.fsvmosbach.de/event/kld-dieburg-10/
LOCATION:RP1 Schaafheim-Mosbach\, Gartenstr. 19-21\, Schaafheim\, Hessen\, 64850\, Deutschland
END:VEVENT
BEGIN:VEVENT
DTSTART;TZID=Europe/Berlin:20231003T130000
DTEND;TZID=Europe/Berlin:20231003T130000
DTSTAMP:20260425T130745
CREATED:20230731T091458Z
LAST-MODIFIED:20230731T091458Z
UID:9754-1696338000-1696338000@www.fsvmosbach.de
SUMMARY:KLC Dieburg
DESCRIPTION:FC Viktoria Schaafheim II – SG Mosbach/Radheim II
URL:https://www.fsvmosbach.de/event/klc-dieburg-10/
LOCATION:RP1 Schaafheim\, Feldstr. 14\, Schaafheim\, 64850\, Deutschland
END:VEVENT
BEGIN:VEVENT
DTSTART;TZID=Europe/Berlin:20231003T150000
DTEND;TZID=Europe/Berlin:20231003T150000
DTSTAMP:20260425T130745
CREATED:20230731T091459Z
LAST-MODIFIED:20230731T091459Z
UID:9755-1696345200-1696345200@www.fsvmosbach.de
SUMMARY:KOL DI-ODW
DESCRIPTION:TSV Günterfürst – SG Mosbach/Radheim
URL:https://www.fsvmosbach.de/event/kol-di-odw-10/
END:VEVENT
BEGIN:VEVENT
DTSTART;TZID=Europe/Berlin:20231008T130000
DTEND;TZID=Europe/Berlin:20231008T130000
DTSTAMP:20260425T130745
CREATED:20230731T091514Z
LAST-MODIFIED:20230731T091514Z
UID:9756-1696770000-1696770000@www.fsvmosbach.de
SUMMARY:KLC Dieburg
DESCRIPTION:SG Mosbach/Radheim II – SV 1958 Sickenhofen II
URL:https://www.fsvmosbach.de/event/klc-dieburg-11/
LOCATION:RP1 Schaafheim-Mosbach\, Gartenstr. 19-21\, Schaafheim\, Hessen\, 64850\, Deutschland
END:VEVENT
BEGIN:VEVENT
DTSTART;TZID=Europe/Berlin:20231008T130000
DTEND;TZID=Europe/Berlin:20231008T130000
DTSTAMP:20260425T130745
CREATED:20230731T091515Z
LAST-MODIFIED:20230731T091515Z
UID:9757-1696770000-1696770000@www.fsvmosbach.de
SUMMARY:KLD Dieburg
DESCRIPTION:1. FC Niedernhausen-Lichtenberg II – SG Mosbach/Radheim III
URL:https://www.fsvmosbach.de/event/kld-dieburg-11/
LOCATION:KR Fischbachtal-Niedernhausen\, Nonroder Hang\, Fischbachtal\, 64405\, Deutschland
END:VEVENT
BEGIN:VEVENT
DTSTART;TZID=Europe/Berlin:20231008T150000
DTEND;TZID=Europe/Berlin:20231008T150000
DTSTAMP:20260425T130745
CREATED:20230731T091516Z
LAST-MODIFIED:20230731T091516Z
UID:9758-1696777200-1696777200@www.fsvmosbach.de
SUMMARY:KOL DI-ODW
DESCRIPTION:SG Mosbach/Radheim – SG 1946 Sandbach
URL:https://www.fsvmosbach.de/event/kol-di-odw-11/
LOCATION:RP1 Schaafheim-Mosbach\, Gartenstr. 19-21\, Schaafheim\, Hessen\, 64850\, Deutschland
END:VEVENT
BEGIN:VEVENT
DTSTART;TZID=Europe/Berlin:20231011T190000
DTEND;TZID=Europe/Berlin:20231011T190000
DTSTAMP:20260425T130745
CREATED:20230731T091517Z
LAST-MODIFIED:20230731T091517Z
UID:9760-1697050800-1697050800@www.fsvmosbach.de
SUMMARY:KLC Dieburg
DESCRIPTION:SG Mosbach/Radheim II – PSV Groß-Umstadt II
URL:https://www.fsvmosbach.de/event/klc-dieburg-12/
LOCATION:RP1 Schaafheim-Mosbach\, Gartenstr. 19-21\, Schaafheim\, Hessen\, 64850\, Deutschland
END:VEVENT
BEGIN:VEVENT
DTSTART;TZID=Europe/Berlin:20231011T190000
DTEND;TZID=Europe/Berlin:20231011T190000
DTSTAMP:20260425T130745
CREATED:20230731T091517Z
LAST-MODIFIED:20230731T091517Z
UID:9759-1697050800-1697050800@www.fsvmosbach.de
SUMMARY:KLD Dieburg
DESCRIPTION:FC Ueberau – SG Mosbach/Radheim III
URL:https://www.fsvmosbach.de/event/kld-dieburg-12/
LOCATION:RP Reinheim-Ueberau (FC)\, Brensbacher Str.\, Reinheim\, 64354\, Deutschland
END:VEVENT
BEGIN:VEVENT
DTSTART;TZID=Europe/Berlin:20231012T193000
DTEND;TZID=Europe/Berlin:20231012T193000
DTSTAMP:20260425T130745
CREATED:20230731T091528Z
LAST-MODIFIED:20230731T091528Z
UID:9761-1697139000-1697139000@www.fsvmosbach.de
SUMMARY:KOL DI-ODW
DESCRIPTION:SG Mosbach/Radheim – FC Rimhorn
URL:https://www.fsvmosbach.de/event/kol-di-odw-12/
LOCATION:RP1 Schaafheim-Mosbach\, Gartenstr. 19-21\, Schaafheim\, Hessen\, 64850\, Deutschland
END:VEVENT
BEGIN:VEVENT
DTSTART;TZID=Europe/Berlin:20231022T130000
DTEND;TZID=Europe/Berlin:20231022T130000
DTSTAMP:20260425T130745
CREATED:20230731T091528Z
LAST-MODIFIED:20230731T091528Z
UID:9762-1697979600-1697979600@www.fsvmosbach.de
SUMMARY:KLC Dieburg
DESCRIPTION:Vikt.Klein-Zimmern II – SG Mosbach/Radheim II
URL:https://www.fsvmosbach.de/event/klc-dieburg-13/
LOCATION:RP Groß-Zimmern-Klein-Zimmern\, Burgstr.\, Groß-Zimmern\, 64846\, Deutschland
END:VEVENT
BEGIN:VEVENT
DTSTART;TZID=Europe/Berlin:20231022T150000
DTEND;TZID=Europe/Berlin:20231022T150000
DTSTAMP:20260425T130745
CREATED:20230731T091529Z
LAST-MODIFIED:20230731T091529Z
UID:9763-1697986800-1697986800@www.fsvmosbach.de
SUMMARY:KOL DI-ODW
DESCRIPTION:TSG Steinbach – SG Mosbach/Radheim
URL:https://www.fsvmosbach.de/event/kol-di-odw-13/
LOCATION:RP Michelstadt-Steinbach\, Höhenstr. 52\, Michelstadt\, Hessen\, 64720\, Deutschland
END:VEVENT
BEGIN:VEVENT
DTSTART;TZID=Europe/Berlin:20231022T150000
DTEND;TZID=Europe/Berlin:20231022T150000
DTSTAMP:20260425T130745
CREATED:20230731T091529Z
LAST-MODIFIED:20230731T091529Z
UID:9764-1697986800-1697986800@www.fsvmosbach.de
SUMMARY:KLD Dieburg
DESCRIPTION:SG Mosbach/Radheim III – SpVgg Groß-Umstadt II
URL:https://www.fsvmosbach.de/event/kld-dieburg-13/
LOCATION:RP1 Schaafheim-Mosbach\, Gartenstr. 19-21\, Schaafheim\, Hessen\, 64850\, Deutschland
END:VEVENT
END:VCALENDAR