BEGIN:VCALENDAR
VERSION:2.0
PRODID:-//FSV Mosbach 1928 e.V. - ECPv6.13.1//NONSGML v1.0//EN
CALSCALE:GREGORIAN
METHOD:PUBLISH
X-WR-CALNAME:FSV Mosbach 1928 e.V.
X-ORIGINAL-URL:https://www.fsvmosbach.de
X-WR-CALDESC:Veranstaltungen für FSV Mosbach 1928 e.V.
REFRESH-INTERVAL;VALUE=DURATION:PT1H
X-Robots-Tag:noindex
X-PUBLISHED-TTL:PT1H
BEGIN:VTIMEZONE
TZID:Europe/Berlin
BEGIN:DAYLIGHT
TZOFFSETFROM:+0100
TZOFFSETTO:+0200
TZNAME:CEST
DTSTART:20230326T010000
END:DAYLIGHT
BEGIN:STANDARD
TZOFFSETFROM:+0200
TZOFFSETTO:+0100
TZNAME:CET
DTSTART:20231029T010000
END:STANDARD
END:VTIMEZONE
BEGIN:VEVENT
DTSTART;TZID=Europe/Berlin:20230903T130000
DTEND;TZID=Europe/Berlin:20230903T130000
DTSTAMP:20260425T143517
CREATED:20230731T091413Z
LAST-MODIFIED:20230731T091413Z
UID:9737-1693746000-1693746000@www.fsvmosbach.de
SUMMARY:KLC Dieburg
DESCRIPTION:TSV Altheim II – SG Mosbach/Radheim II
URL:https://www.fsvmosbach.de/event/klc-dieburg-4/
LOCATION:RP1 Münster-Altheim\, Am Sportplatz\, Münster\, 64839\, Deutschland
END:VEVENT
BEGIN:VEVENT
DTSTART;TZID=Europe/Berlin:20230903T150000
DTEND;TZID=Europe/Berlin:20230903T150000
DTSTAMP:20260425T143517
CREATED:20230731T091414Z
LAST-MODIFIED:20230731T091414Z
UID:9738-1693753200-1693753200@www.fsvmosbach.de
SUMMARY:KOL DI-ODW
DESCRIPTION:TSV Altheim – SG Mosbach/Radheim
URL:https://www.fsvmosbach.de/event/kol-di-odw-4/
LOCATION:RP1 Münster-Altheim\, Am Sportplatz\, Münster\, 64839\, Deutschland
END:VEVENT
BEGIN:VEVENT
DTSTART;TZID=Europe/Berlin:20230907T183000
DTEND;TZID=Europe/Berlin:20230907T183000
DTSTAMP:20260425T143517
CREATED:20230731T091414Z
LAST-MODIFIED:20230731T091414Z
UID:9739-1694111400-1694111400@www.fsvmosbach.de
SUMMARY:KLC Dieburg
DESCRIPTION:TV 1890 Semd – SG Mosbach/Radheim II
URL:https://www.fsvmosbach.de/event/klc-dieburg-5/
LOCATION:RP Groß-Umstadt-Semd\, Dieburger Str.\, Groß-Umstadt\, 64823\, Deutschland
END:VEVENT
BEGIN:VEVENT
DTSTART;TZID=Europe/Berlin:20230907T193000
DTEND;TZID=Europe/Berlin:20230907T193000
DTSTAMP:20260425T143517
CREATED:20230731T091414Z
LAST-MODIFIED:20230731T091414Z
UID:9740-1694115000-1694115000@www.fsvmosbach.de
SUMMARY:KOL DI-ODW
DESCRIPTION:KSG Georgenhausen – SG Mosbach/Radheim
URL:https://www.fsvmosbach.de/event/kol-di-odw-5/
LOCATION:RP Reinheim-Georgenhausen\, Am Sportplatz 2\, Reinheim\, 64354\, Deutschland
END:VEVENT
BEGIN:VEVENT
DTSTART;TZID=Europe/Berlin:20230910T130000
DTEND;TZID=Europe/Berlin:20230910T130000
DTSTAMP:20260425T143517
CREATED:20230731T091427Z
LAST-MODIFIED:20230731T091427Z
UID:9741-1694350800-1694350800@www.fsvmosbach.de
SUMMARY:KLC Dieburg
DESCRIPTION:SG Mosbach/Radheim II – TSV Harreshausen II
URL:https://www.fsvmosbach.de/event/klc-dieburg-6/
LOCATION:RP1 Schaafheim-Mosbach\, Gartenstr. 19-21\, Schaafheim\, Hessen\, 64850\, Deutschland
END:VEVENT
BEGIN:VEVENT
DTSTART;TZID=Europe/Berlin:20230910T150000
DTEND;TZID=Europe/Berlin:20230910T150000
DTSTAMP:20260425T143517
CREATED:20230731T091427Z
LAST-MODIFIED:20230731T091427Z
UID:9742-1694358000-1694358000@www.fsvmosbach.de
SUMMARY:KOL DI-ODW
DESCRIPTION:SG Mosbach/Radheim – Germ. Ober-Roden II
URL:https://www.fsvmosbach.de/event/kol-di-odw-6/
LOCATION:RP1 Schaafheim-Mosbach\, Gartenstr. 19-21\, Schaafheim\, Hessen\, 64850\, Deutschland
END:VEVENT
BEGIN:VEVENT
DTSTART;TZID=Europe/Berlin:20230910T150000
DTEND;TZID=Europe/Berlin:20230910T150000
DTSTAMP:20260425T143517
CREATED:20230731T091428Z
LAST-MODIFIED:20230731T091428Z
UID:9743-1694358000-1694358000@www.fsvmosbach.de
SUMMARY:KLD Dieburg
DESCRIPTION:FR.Spvgg. Münster – SG Mosbach/Radheim III
URL:https://www.fsvmosbach.de/event/kld-dieburg-6/
LOCATION:RP1 Münster (B45)\, Darmstädter Str.\, Münster\, 64839\, Deutschland
END:VEVENT
BEGIN:VEVENT
DTSTART;TZID=Europe/Berlin:20230916T160000
DTEND;TZID=Europe/Berlin:20230916T160000
DTSTAMP:20260425T143517
CREATED:20230731T091428Z
LAST-MODIFIED:20230731T091428Z
UID:9744-1694880000-1694880000@www.fsvmosbach.de
SUMMARY:KLD Dieburg
DESCRIPTION:SG Mosbach/Radheim III – SC Hassia Dieburg III
URL:https://www.fsvmosbach.de/event/kld-dieburg-7/
LOCATION:RP1 Schaafheim-Mosbach\, Gartenstr. 19-21\, Schaafheim\, Hessen\, 64850\, Deutschland
END:VEVENT
BEGIN:VEVENT
DTSTART;TZID=Europe/Berlin:20230917T130000
DTEND;TZID=Europe/Berlin:20230917T130000
DTSTAMP:20260425T143517
CREATED:20230731T091428Z
LAST-MODIFIED:20230731T091428Z
UID:9745-1694955600-1694955600@www.fsvmosbach.de
SUMMARY:KLC Dieburg
DESCRIPTION:GSV Gundernhausen – SG Mosbach/Radheim II
URL:https://www.fsvmosbach.de/event/klc-dieburg-7/
LOCATION:RP1 Rossdorf-Gundernhausen\, Bruchwiesenstr. 40\, Roßdorf\, 64380\, Deutschland
END:VEVENT
BEGIN:VEVENT
DTSTART;TZID=Europe/Berlin:20230917T150000
DTEND;TZID=Europe/Berlin:20230917T150000
DTSTAMP:20260425T143517
CREATED:20230731T091442Z
LAST-MODIFIED:20230731T091442Z
UID:9746-1694962800-1694962800@www.fsvmosbach.de
SUMMARY:KOL DI-ODW
DESCRIPTION:SG Mosbach/Radheim – FV  Eppertshausen
URL:https://www.fsvmosbach.de/event/kol-di-odw-7/
LOCATION:RP1 Schaafheim-Mosbach\, Gartenstr. 19-21\, Schaafheim\, Hessen\, 64850\, Deutschland
END:VEVENT
BEGIN:VEVENT
DTSTART;TZID=Europe/Berlin:20230921T193000
DTEND;TZID=Europe/Berlin:20230921T193000
DTSTAMP:20260425T143517
CREATED:20230731T091443Z
LAST-MODIFIED:20230731T091443Z
UID:9747-1695324600-1695324600@www.fsvmosbach.de
SUMMARY:KOL DI-ODW
DESCRIPTION:SG Mosbach/Radheim – TV Hetzbach
URL:https://www.fsvmosbach.de/event/kol-di-odw-8/
LOCATION:RP1 Schaafheim-Mosbach\, Gartenstr. 19-21\, Schaafheim\, Hessen\, 64850\, Deutschland
END:VEVENT
BEGIN:VEVENT
DTSTART;TZID=Europe/Berlin:20230924T130000
DTEND;TZID=Europe/Berlin:20230924T130000
DTSTAMP:20260425T143517
CREATED:20230731T091443Z
LAST-MODIFIED:20230731T091443Z
UID:9748-1695560400-1695560400@www.fsvmosbach.de
SUMMARY:KLC Dieburg
DESCRIPTION:SG Mosbach/Radheim II – SV 1945 Reinheim
URL:https://www.fsvmosbach.de/event/klc-dieburg-8/
LOCATION:RP1 Schaafheim-Mosbach\, Gartenstr. 19-21\, Schaafheim\, Hessen\, 64850\, Deutschland
END:VEVENT
BEGIN:VEVENT
DTSTART;TZID=Europe/Berlin:20230924T130000
DTEND;TZID=Europe/Berlin:20230924T130000
DTSTAMP:20260425T143517
CREATED:20230731T091443Z
LAST-MODIFIED:20230731T091443Z
UID:9749-1695560400-1695560400@www.fsvmosbach.de
SUMMARY:KLD Dieburg
DESCRIPTION:KSV Urberach II – SG Mosbach/Radheim III
URL:https://www.fsvmosbach.de/event/kld-dieburg-8/
LOCATION:RP2 Rödermark-Urberach (KSV)\, Rödermark\, 63322\, Deutschland
END:VEVENT
END:VCALENDAR