BEGIN:VCALENDAR
VERSION:2.0
PRODID:-//FSV Mosbach 1928 e.V. - ECPv6.13.1//NONSGML v1.0//EN
CALSCALE:GREGORIAN
METHOD:PUBLISH
X-ORIGINAL-URL:https://www.fsvmosbach.de
X-WR-CALDESC:Veranstaltungen für FSV Mosbach 1928 e.V.
REFRESH-INTERVAL;VALUE=DURATION:PT1H
X-Robots-Tag:noindex
X-PUBLISHED-TTL:PT1H
BEGIN:VTIMEZONE
TZID:Europe/Berlin
BEGIN:DAYLIGHT
TZOFFSETFROM:+0100
TZOFFSETTO:+0200
TZNAME:CEST
DTSTART:20220327T010000
END:DAYLIGHT
BEGIN:STANDARD
TZOFFSETFROM:+0200
TZOFFSETTO:+0100
TZNAME:CET
DTSTART:20221030T010000
END:STANDARD
END:VTIMEZONE
BEGIN:VEVENT
DTSTART;TZID=Europe/Berlin:20221204T120000
DTEND;TZID=Europe/Berlin:20221204T120000
DTSTAMP:20260426T045232
CREATED:20220725T114646Z
LAST-MODIFIED:20220725T121414Z
UID:9529-1670155200-1670155200@www.fsvmosbach.de
SUMMARY:KLC
DESCRIPTION:SG Mosbach/Radheim II – SV 1958 Sickenhofen II
URL:https://www.fsvmosbach.de/event/klc-16/
END:VEVENT
BEGIN:VEVENT
DTSTART;TZID=Europe/Berlin:20221204T140000
DTEND;TZID=Europe/Berlin:20221204T140000
DTSTAMP:20260426T045232
CREATED:20220725T114646Z
LAST-MODIFIED:20220725T121414Z
UID:9530-1670162400-1670162400@www.fsvmosbach.de
SUMMARY:KOL
DESCRIPTION:SG Mosbach/Radheim – FC Rimhorn
URL:https://www.fsvmosbach.de/event/kol-20/
END:VEVENT
BEGIN:VEVENT
DTSTART;TZID=Europe/Berlin:20221211T120000
DTEND;TZID=Europe/Berlin:20221211T120000
DTSTAMP:20260426T045232
CREATED:20220725T114646Z
LAST-MODIFIED:20220725T121415Z
UID:9531-1670760000-1670760000@www.fsvmosbach.de
SUMMARY:KLC
DESCRIPTION:FV Eppertshausen II – SG Mosbach/Radheim II
URL:https://www.fsvmosbach.de/event/klc-17/
LOCATION:KR Eppertshausen\, Nieder-Röder Str. 99\, Eppertshausen\, 64859\, Deutschland
END:VEVENT
BEGIN:VEVENT
DTSTART;TZID=Europe/Berlin:20221211T120000
DTEND;TZID=Europe/Berlin:20221211T120000
DTSTAMP:20260426T045232
CREATED:20220725T114647Z
LAST-MODIFIED:20220725T121415Z
UID:9532-1670760000-1670760000@www.fsvmosbach.de
SUMMARY:KLD
DESCRIPTION:SG Mosbach/Radheim III – Viktoria Urberach III
URL:https://www.fsvmosbach.de/event/kld-17/
LOCATION:RP1 Schaafheim-Mosbach\, Gartenstr. 19-21\, Schaafheim\, Hessen\, 64850\, Deutschland
END:VEVENT
BEGIN:VEVENT
DTSTART;TZID=Europe/Berlin:20221211T140000
DTEND;TZID=Europe/Berlin:20221211T140000
DTSTAMP:20260426T045232
CREATED:20220725T114647Z
LAST-MODIFIED:20220725T121415Z
UID:9533-1670767200-1670767200@www.fsvmosbach.de
SUMMARY:KOL
DESCRIPTION:SV Lützel-Wiebelsbach – SG Mosbach/Radheim
URL:https://www.fsvmosbach.de/event/kol-21/
LOCATION:RP Lützelbach (Bergfeld)\, Schulstr.\, Lützelbach\, Hessen\, 64750\, Deutschland
END:VEVENT
END:VCALENDAR