BEGIN:VCALENDAR
VERSION:2.0
PRODID:-//FSV Mosbach 1928 e.V. - ECPv6.13.1//NONSGML v1.0//EN
CALSCALE:GREGORIAN
METHOD:PUBLISH
X-ORIGINAL-URL:https://www.fsvmosbach.de
X-WR-CALDESC:Veranstaltungen für FSV Mosbach 1928 e.V.
REFRESH-INTERVAL;VALUE=DURATION:PT1H
X-Robots-Tag:noindex
X-PUBLISHED-TTL:PT1H
BEGIN:VTIMEZONE
TZID:Europe/Berlin
BEGIN:DAYLIGHT
TZOFFSETFROM:+0100
TZOFFSETTO:+0200
TZNAME:CEST
DTSTART:20220327T010000
END:DAYLIGHT
BEGIN:STANDARD
TZOFFSETFROM:+0200
TZOFFSETTO:+0100
TZNAME:CET
DTSTART:20221030T010000
END:STANDARD
END:VTIMEZONE
BEGIN:VEVENT
DTSTART;TZID=Europe/Berlin:20221105T160000
DTEND;TZID=Europe/Berlin:20221105T160000
DTSTAMP:20260426T062207
CREATED:20220725T114631Z
LAST-MODIFIED:20220725T121349Z
UID:9520-1667664000-1667664000@www.fsvmosbach.de
SUMMARY:KLD
DESCRIPTION:SG Mosbach/Radheim III – TSV Harreshausen II
URL:https://www.fsvmosbach.de/event/kld-14/
LOCATION:RP1 Schaafheim-Mosbach\, Gartenstr. 19-21\, Schaafheim\, Hessen\, 64850\, Deutschland
END:VEVENT
BEGIN:VEVENT
DTSTART;TZID=Europe/Berlin:20221105T160000
DTEND;TZID=Europe/Berlin:20221105T160000
DTSTAMP:20260426T062207
CREATED:20220725T114631Z
LAST-MODIFIED:20220725T121349Z
UID:9521-1667664000-1667664000@www.fsvmosbach.de
SUMMARY:KOL
DESCRIPTION:KSG Georgenhausen – SG Mosbach/Radheim
URL:https://www.fsvmosbach.de/event/kol-16/
LOCATION:RP Reinheim-Georgenhausen\, Am Sportplatz 2\, Reinheim\, 64354\, Deutschland
END:VEVENT
BEGIN:VEVENT
DTSTART;TZID=Europe/Berlin:20221113T130000
DTEND;TZID=Europe/Berlin:20221113T130000
DTSTAMP:20260426T062207
CREATED:20220725T114632Z
LAST-MODIFIED:20220725T121350Z
UID:9522-1668344400-1668344400@www.fsvmosbach.de
SUMMARY:KLC
DESCRIPTION:SG Mosbach/Radheim II – TSV Klein-Umstadt II
URL:https://www.fsvmosbach.de/event/klc-14/
LOCATION:RP1 Schaafheim-Mosbach\, Gartenstr. 19-21\, Schaafheim\, Hessen\, 64850\, Deutschland
END:VEVENT
BEGIN:VEVENT
DTSTART;TZID=Europe/Berlin:20221113T130000
DTEND;TZID=Europe/Berlin:20221113T130000
DTSTAMP:20260426T062207
CREATED:20220725T114632Z
LAST-MODIFIED:20220725T121350Z
UID:9523-1668344400-1668344400@www.fsvmosbach.de
SUMMARY:KLD
DESCRIPTION:Viktoria Dieburg II – SG Mosbach/Radheim III
URL:https://www.fsvmosbach.de/event/kld-15/
LOCATION:RP1 Dieburg (Schloßgarten)\, Schwimmbadweg 5\, Dieburg\, 64807\, Deutschland
END:VEVENT
BEGIN:VEVENT
DTSTART;TZID=Europe/Berlin:20221113T150000
DTEND;TZID=Europe/Berlin:20221113T150000
DTSTAMP:20260426T062207
CREATED:20220725T114641Z
LAST-MODIFIED:20220725T121407Z
UID:9524-1668351600-1668351600@www.fsvmosbach.de
SUMMARY:KOL
DESCRIPTION:SG Mosbach/Radheim – SC Hassia Dieburg
URL:https://www.fsvmosbach.de/event/kol-17/
LOCATION:RP1 Schaafheim-Mosbach\, Gartenstr. 19-21\, Schaafheim\, Hessen\, 64850\, Deutschland
END:VEVENT
BEGIN:VEVENT
DTSTART;TZID=Europe/Berlin:20221120T130000
DTEND;TZID=Europe/Berlin:20221120T130000
DTSTAMP:20260426T062207
CREATED:20220725T114641Z
LAST-MODIFIED:20220725T121407Z
UID:9525-1668949200-1668949200@www.fsvmosbach.de
SUMMARY:KLD
DESCRIPTION:1. FC Niedernhausen-Lichtenberg II – SG Mosbach/Radheim III
URL:https://www.fsvmosbach.de/event/kld-16/
LOCATION:KR Fischbachtal-Niedernhausen\, Nonroder Hang\, Fischbachtal\, 64405\, Deutschland
END:VEVENT
BEGIN:VEVENT
DTSTART;TZID=Europe/Berlin:20221120T150000
DTEND;TZID=Europe/Berlin:20221120T150000
DTSTAMP:20260426T062207
CREATED:20220725T114642Z
LAST-MODIFIED:20220725T121408Z
UID:9526-1668956400-1668956400@www.fsvmosbach.de
SUMMARY:KOL
DESCRIPTION:SG Mosbach/Radheim – FV Mümling-Grumbach
URL:https://www.fsvmosbach.de/event/kol-18/
LOCATION:RP1 Schaafheim-Mosbach\, Gartenstr. 19-21\, Schaafheim\, Hessen\, 64850\, Deutschland
END:VEVENT
BEGIN:VEVENT
DTSTART;TZID=Europe/Berlin:20221127T123000
DTEND;TZID=Europe/Berlin:20221127T123000
DTSTAMP:20260426T062207
CREATED:20220725T114642Z
LAST-MODIFIED:20220725T121408Z
UID:9527-1669552200-1669552200@www.fsvmosbach.de
SUMMARY:KLC
DESCRIPTION:SV Viktoria Kleestadt II – SG Mosbach/Radheim II
URL:https://www.fsvmosbach.de/event/klc-15/
LOCATION:RP1 Groß-Umstadt-Kleestadt\, Schlierbacher Str.\, Groß-Umstadt\, 64823\, Deutschland
END:VEVENT
BEGIN:VEVENT
DTSTART;TZID=Europe/Berlin:20221127T143000
DTEND;TZID=Europe/Berlin:20221127T143000
DTSTAMP:20260426T062207
CREATED:20220725T114642Z
LAST-MODIFIED:20220725T121408Z
UID:9528-1669559400-1669559400@www.fsvmosbach.de
SUMMARY:KOL
DESCRIPTION:TSV Lengfeld – SG Mosbach/Radheim
URL:https://www.fsvmosbach.de/event/kol-19/
LOCATION:RP Otzberg-Lengfeld (Schafb)\, Am Schafbuckel 2\, Otzberg\, 64853\, Deutschland
END:VEVENT
END:VCALENDAR