BEGIN:VCALENDAR
VERSION:2.0
PRODID:-//FSV Mosbach 1928 e.V. - ECPv6.13.1//NONSGML v1.0//EN
CALSCALE:GREGORIAN
METHOD:PUBLISH
X-ORIGINAL-URL:https://www.fsvmosbach.de
X-WR-CALDESC:Veranstaltungen für FSV Mosbach 1928 e.V.
REFRESH-INTERVAL;VALUE=DURATION:PT1H
X-Robots-Tag:noindex
X-PUBLISHED-TTL:PT1H
BEGIN:VTIMEZONE
TZID:Europe/Berlin
BEGIN:DAYLIGHT
TZOFFSETFROM:+0100
TZOFFSETTO:+0200
TZNAME:CEST
DTSTART:20230326T010000
END:DAYLIGHT
BEGIN:STANDARD
TZOFFSETFROM:+0200
TZOFFSETTO:+0100
TZNAME:CET
DTSTART:20231029T010000
END:STANDARD
END:VTIMEZONE
BEGIN:VEVENT
DTSTART;TZID=Europe/Berlin:20231126T130000
DTEND;TZID=Europe/Berlin:20231126T130000
DTSTAMP:20260425T122507
CREATED:20230731T091558Z
LAST-MODIFIED:20230731T091558Z
UID:9773-1701003600-1701003600@www.fsvmosbach.de
SUMMARY:KLC Dieburg
DESCRIPTION:SG 1919 Ueberau II – SG Mosbach/Radheim II
URL:https://www.fsvmosbach.de/event/klc-dieburg-17/
LOCATION:RP Reinheim-Ueberau (SG)\, Reinheim\, 64354\, Deutschland
END:VEVENT
BEGIN:VEVENT
DTSTART;TZID=Europe/Berlin:20231126T150000
DTEND;TZID=Europe/Berlin:20231126T150000
DTSTAMP:20260425T122507
CREATED:20230731T091558Z
LAST-MODIFIED:20230731T091558Z
UID:9774-1701010800-1701010800@www.fsvmosbach.de
SUMMARY:KOL DI-ODW
DESCRIPTION:TSV Lengfeld – SG Mosbach/Radheim
URL:https://www.fsvmosbach.de/event/kol-di-odw-17/
LOCATION:RP Otzberg-Lengfeld (Schafb)\, Am Schafbuckel 2\, Otzberg\, 64853\, Deutschland
END:VEVENT
BEGIN:VEVENT
DTSTART;TZID=Europe/Berlin:20231126T150000
DTEND;TZID=Europe/Berlin:20231126T150000
DTSTAMP:20260425T122507
CREATED:20230731T091558Z
LAST-MODIFIED:20230731T091558Z
UID:9775-1701010800-1701010800@www.fsvmosbach.de
SUMMARY:KLD Dieburg
DESCRIPTION:SG Mosbach/Radheim III – SG Klingen II
URL:https://www.fsvmosbach.de/event/kld-dieburg-16/
LOCATION:RP1 Schaafheim-Mosbach\, Gartenstr. 19-21\, Schaafheim\, Hessen\, 64850\, Deutschland
END:VEVENT
END:VCALENDAR