BEGIN:VCALENDAR
VERSION:2.0
PRODID:-//FSV Mosbach 1928 e.V. - ECPv6.13.1//NONSGML v1.0//EN
CALSCALE:GREGORIAN
METHOD:PUBLISH
X-WR-CALNAME:FSV Mosbach 1928 e.V.
X-ORIGINAL-URL:https://www.fsvmosbach.de
X-WR-CALDESC:Veranstaltungen für FSV Mosbach 1928 e.V.
REFRESH-INTERVAL;VALUE=DURATION:PT1H
X-Robots-Tag:noindex
X-PUBLISHED-TTL:PT1H
BEGIN:VTIMEZONE
TZID:Europe/Berlin
BEGIN:DAYLIGHT
TZOFFSETFROM:+0100
TZOFFSETTO:+0200
TZNAME:CEST
DTSTART:20230326T010000
END:DAYLIGHT
BEGIN:STANDARD
TZOFFSETFROM:+0200
TZOFFSETTO:+0100
TZNAME:CET
DTSTART:20231029T010000
END:STANDARD
END:VTIMEZONE
BEGIN:VEVENT
DTSTART;TZID=Europe/Berlin:20231119T130000
DTEND;TZID=Europe/Berlin:20231119T130000
DTSTAMP:20260425T122424
CREATED:20230731T091543Z
LAST-MODIFIED:20230731T091543Z
UID:9770-1700398800-1700398800@www.fsvmosbach.de
SUMMARY:KLC Dieburg
DESCRIPTION:SG Mosbach/Radheim II – SV Viktoria Kleestadt II
URL:https://www.fsvmosbach.de/event/klc-dieburg-16/
LOCATION:RP1 Schaafheim-Mosbach\, Gartenstr. 19-21\, Schaafheim\, Hessen\, 64850\, Deutschland
END:VEVENT
BEGIN:VEVENT
DTSTART;TZID=Europe/Berlin:20231119T150000
DTEND;TZID=Europe/Berlin:20231119T150000
DTSTAMP:20260425T122424
CREATED:20230731T091557Z
LAST-MODIFIED:20230731T091557Z
UID:9771-1700406000-1700406000@www.fsvmosbach.de
SUMMARY:KLD Dieburg
DESCRIPTION:TG Ober-Roden – SG Mosbach/Radheim III
URL:https://www.fsvmosbach.de/event/kld-dieburg-15/
LOCATION:RP1 Rödermark-Ober-Roden (TG)\, Mainzer Str. 76\, Rödermark\, 63322\, Deutschland
END:VEVENT
BEGIN:VEVENT
DTSTART;TZID=Europe/Berlin:20231119T150000
DTEND;TZID=Europe/Berlin:20231119T150000
DTSTAMP:20260425T122424
CREATED:20230731T091557Z
LAST-MODIFIED:20230731T091557Z
UID:9772-1700406000-1700406000@www.fsvmosbach.de
SUMMARY:KOL DI-ODW
DESCRIPTION:SG Mosbach/Radheim – SV Lützel-Wiebelsbach
URL:https://www.fsvmosbach.de/event/kol-di-odw-16/
LOCATION:RP1 Schaafheim-Mosbach\, Gartenstr. 19-21\, Schaafheim\, Hessen\, 64850\, Deutschland
END:VEVENT
END:VCALENDAR