BEGIN:VCALENDAR
VERSION:2.0
PRODID:-//FSV Mosbach 1928 e.V. - ECPv6.13.1//NONSGML v1.0//EN
CALSCALE:GREGORIAN
METHOD:PUBLISH
X-WR-CALNAME:FSV Mosbach 1928 e.V.
X-ORIGINAL-URL:https://www.fsvmosbach.de
X-WR-CALDESC:Veranstaltungen für FSV Mosbach 1928 e.V.
REFRESH-INTERVAL;VALUE=DURATION:PT1H
X-Robots-Tag:noindex
X-PUBLISHED-TTL:PT1H
BEGIN:VTIMEZONE
TZID:Europe/Berlin
BEGIN:DAYLIGHT
TZOFFSETFROM:+0100
TZOFFSETTO:+0200
TZNAME:CEST
DTSTART:20230326T010000
END:DAYLIGHT
BEGIN:STANDARD
TZOFFSETFROM:+0200
TZOFFSETTO:+0100
TZNAME:CET
DTSTART:20231029T010000
END:STANDARD
END:VTIMEZONE
BEGIN:VEVENT
DTSTART;TZID=Europe/Berlin:20231112T123000
DTEND;TZID=Europe/Berlin:20231112T123000
DTSTAMP:20260425T130344
CREATED:20230731T091543Z
LAST-MODIFIED:20230731T091543Z
UID:9768-1699792200-1699792200@www.fsvmosbach.de
SUMMARY:KLC Dieburg
DESCRIPTION:SG Mosbach/Radheim II – SV Heubach II
URL:https://www.fsvmosbach.de/event/klc-dieburg-15/
LOCATION:RP1 Schaafheim-Mosbach\, Gartenstr. 19-21\, Schaafheim\, Hessen\, 64850\, Deutschland
END:VEVENT
BEGIN:VEVENT
DTSTART;TZID=Europe/Berlin:20231112T143000
DTEND;TZID=Europe/Berlin:20231112T143000
DTSTAMP:20260425T130344
CREATED:20230731T091543Z
LAST-MODIFIED:20230731T091543Z
UID:9769-1699799400-1699799400@www.fsvmosbach.de
SUMMARY:KOL DI-ODW
DESCRIPTION:SG Mosbach/Radheim – SC Hassia Dieburg
URL:https://www.fsvmosbach.de/event/kol-di-odw-15/
LOCATION:RP1 Schaafheim-Mosbach\, Gartenstr. 19-21\, Schaafheim\, Hessen\, 64850\, Deutschland
END:VEVENT
END:VCALENDAR