BEGIN:VCALENDAR
VERSION:2.0
PRODID:-//FSV Mosbach 1928 e.V. - ECPv6.13.1//NONSGML v1.0//EN
CALSCALE:GREGORIAN
METHOD:PUBLISH
X-WR-CALNAME:FSV Mosbach 1928 e.V.
X-ORIGINAL-URL:https://www.fsvmosbach.de
X-WR-CALDESC:Veranstaltungen für FSV Mosbach 1928 e.V.
REFRESH-INTERVAL;VALUE=DURATION:PT1H
X-Robots-Tag:noindex
X-PUBLISHED-TTL:PT1H
BEGIN:VTIMEZONE
TZID:Europe/Berlin
BEGIN:DAYLIGHT
TZOFFSETFROM:+0100
TZOFFSETTO:+0200
TZNAME:CEST
DTSTART:20230326T010000
END:DAYLIGHT
BEGIN:STANDARD
TZOFFSETFROM:+0200
TZOFFSETTO:+0100
TZNAME:CET
DTSTART:20231029T010000
END:STANDARD
END:VTIMEZONE
BEGIN:VEVENT
DTSTART;TZID=Europe/Berlin:20231011T190000
DTEND;TZID=Europe/Berlin:20231011T190000
DTSTAMP:20260425T143224
CREATED:20230731T091517Z
LAST-MODIFIED:20230731T091517Z
UID:9759-1697050800-1697050800@www.fsvmosbach.de
SUMMARY:KLD Dieburg
DESCRIPTION:FC Ueberau – SG Mosbach/Radheim III
URL:https://www.fsvmosbach.de/event/kld-dieburg-12/
LOCATION:RP Reinheim-Ueberau (FC)\, Brensbacher Str.\, Reinheim\, 64354\, Deutschland
END:VEVENT
BEGIN:VEVENT
DTSTART;TZID=Europe/Berlin:20231011T190000
DTEND;TZID=Europe/Berlin:20231011T190000
DTSTAMP:20260425T143224
CREATED:20230731T091517Z
LAST-MODIFIED:20230731T091517Z
UID:9760-1697050800-1697050800@www.fsvmosbach.de
SUMMARY:KLC Dieburg
DESCRIPTION:SG Mosbach/Radheim II – PSV Groß-Umstadt II
URL:https://www.fsvmosbach.de/event/klc-dieburg-12/
LOCATION:RP1 Schaafheim-Mosbach\, Gartenstr. 19-21\, Schaafheim\, Hessen\, 64850\, Deutschland
END:VEVENT
END:VCALENDAR