BEGIN:VCALENDAR
VERSION:2.0
PRODID:-//FSV Mosbach 1928 e.V. - ECPv6.13.1//NONSGML v1.0//EN
CALSCALE:GREGORIAN
METHOD:PUBLISH
X-ORIGINAL-URL:https://www.fsvmosbach.de
X-WR-CALDESC:Veranstaltungen für FSV Mosbach 1928 e.V.
REFRESH-INTERVAL;VALUE=DURATION:PT1H
X-Robots-Tag:noindex
X-PUBLISHED-TTL:PT1H
BEGIN:VTIMEZONE
TZID:Europe/Berlin
BEGIN:DAYLIGHT
TZOFFSETFROM:+0100
TZOFFSETTO:+0200
TZNAME:CEST
DTSTART:20230326T010000
END:DAYLIGHT
BEGIN:STANDARD
TZOFFSETFROM:+0200
TZOFFSETTO:+0100
TZNAME:CET
DTSTART:20231029T010000
END:STANDARD
END:VTIMEZONE
BEGIN:VEVENT
DTSTART;TZID=Europe/Berlin:20230907T183000
DTEND;TZID=Europe/Berlin:20230907T183000
DTSTAMP:20260425T160559
CREATED:20230731T091414Z
LAST-MODIFIED:20230731T091414Z
UID:9739-1694111400-1694111400@www.fsvmosbach.de
SUMMARY:KLC Dieburg
DESCRIPTION:TV 1890 Semd – SG Mosbach/Radheim II
URL:https://www.fsvmosbach.de/event/klc-dieburg-5/
LOCATION:RP Groß-Umstadt-Semd\, Dieburger Str.\, Groß-Umstadt\, 64823\, Deutschland
END:VEVENT
BEGIN:VEVENT
DTSTART;TZID=Europe/Berlin:20230907T193000
DTEND;TZID=Europe/Berlin:20230907T193000
DTSTAMP:20260425T160559
CREATED:20230731T091414Z
LAST-MODIFIED:20230731T091414Z
UID:9740-1694115000-1694115000@www.fsvmosbach.de
SUMMARY:KOL DI-ODW
DESCRIPTION:KSG Georgenhausen – SG Mosbach/Radheim
URL:https://www.fsvmosbach.de/event/kol-di-odw-5/
LOCATION:RP Reinheim-Georgenhausen\, Am Sportplatz 2\, Reinheim\, 64354\, Deutschland
END:VEVENT
END:VCALENDAR