BEGIN:VCALENDAR
VERSION:2.0
PRODID:-//FSV Mosbach 1928 e.V. - ECPv6.13.1//NONSGML v1.0//EN
CALSCALE:GREGORIAN
METHOD:PUBLISH
X-ORIGINAL-URL:https://www.fsvmosbach.de
X-WR-CALDESC:Veranstaltungen für FSV Mosbach 1928 e.V.
REFRESH-INTERVAL;VALUE=DURATION:PT1H
X-Robots-Tag:noindex
X-PUBLISHED-TTL:PT1H
BEGIN:VTIMEZONE
TZID:Europe/Berlin
BEGIN:DAYLIGHT
TZOFFSETFROM:+0100
TZOFFSETTO:+0200
TZNAME:CEST
DTSTART:20230326T010000
END:DAYLIGHT
BEGIN:STANDARD
TZOFFSETFROM:+0200
TZOFFSETTO:+0100
TZNAME:CET
DTSTART:20231029T010000
END:STANDARD
END:VTIMEZONE
BEGIN:VEVENT
DTSTART;TZID=Europe/Berlin:20230829T190000
DTEND;TZID=Europe/Berlin:20230829T190000
DTSTAMP:20260425T160436
CREATED:20230731T091357Z
LAST-MODIFIED:20230731T091357Z
UID:9734-1693335600-1693335600@www.fsvmosbach.de
SUMMARY:KLD Dieburg
DESCRIPTION:Viktoria Urberach III – SG Mosbach/Radheim III
URL:https://www.fsvmosbach.de/event/kld-dieburg-5/
LOCATION:RP1 Rödermark-Urberach (Vikt)\, Traminer Str. 87\, Rödermark\, 63322\, Deutschland
END:VEVENT
END:VCALENDAR