BEGIN:VCALENDAR
VERSION:2.0
PRODID:-//FSV Mosbach 1928 e.V. - ECPv6.13.1//NONSGML v1.0//EN
CALSCALE:GREGORIAN
METHOD:PUBLISH
X-ORIGINAL-URL:https://www.fsvmosbach.de
X-WR-CALDESC:Veranstaltungen für FSV Mosbach 1928 e.V.
REFRESH-INTERVAL;VALUE=DURATION:PT1H
X-Robots-Tag:noindex
X-PUBLISHED-TTL:PT1H
BEGIN:VTIMEZONE
TZID:Europe/Berlin
BEGIN:DAYLIGHT
TZOFFSETFROM:+0100
TZOFFSETTO:+0200
TZNAME:CEST
DTSTART:20230326T010000
END:DAYLIGHT
BEGIN:STANDARD
TZOFFSETFROM:+0200
TZOFFSETTO:+0100
TZNAME:CET
DTSTART:20231029T010000
END:STANDARD
END:VTIMEZONE
BEGIN:VEVENT
DTSTART;TZID=Europe/Berlin:20230806T130000
DTEND;TZID=Europe/Berlin:20230806T130000
DTSTAMP:20260425T174244
CREATED:20230731T091352Z
LAST-MODIFIED:20230731T091352Z
UID:9726-1691326800-1691326800@www.fsvmosbach.de
SUMMARY:KLC Dieburg
DESCRIPTION:SV Viktoria Kleestadt II – SG Mosbach/Radheim II
URL:https://www.fsvmosbach.de/event/klc-dieburg/
LOCATION:RP1 Groß-Umstadt-Kleestadt\, Schlierbacher Str.\, Groß-Umstadt\, 64823\, Deutschland
END:VEVENT
BEGIN:VEVENT
DTSTART;TZID=Europe/Berlin:20230806T150000
DTEND;TZID=Europe/Berlin:20230806T150000
DTSTAMP:20260425T174244
CREATED:20230731T091352Z
LAST-MODIFIED:20230731T091352Z
UID:9727-1691334000-1691334000@www.fsvmosbach.de
SUMMARY:KLD Dieburg
DESCRIPTION:SG Mosbach/Radheim III – TG Ober-Roden
URL:https://www.fsvmosbach.de/event/kld-dieburg/
LOCATION:RP1 Schaafheim-Mosbach\, Gartenstr. 19-21\, Schaafheim\, Hessen\, 64850\, Deutschland
END:VEVENT
BEGIN:VEVENT
DTSTART;TZID=Europe/Berlin:20230806T150000
DTEND;TZID=Europe/Berlin:20230806T150000
DTSTAMP:20260425T174244
CREATED:20230731T091353Z
LAST-MODIFIED:20230731T091353Z
UID:9728-1691334000-1691334000@www.fsvmosbach.de
SUMMARY:KOL DI-ODW
DESCRIPTION:SV Lützel-Wiebelsbach – SG Mosbach/Radheim
URL:https://www.fsvmosbach.de/event/kol-di-odw/
LOCATION:RP Lützelbach (Bergfeld)\, Schulstr.\, Lützelbach\, Hessen\, 64750\, Deutschland
END:VEVENT
END:VCALENDAR